BEGIN:VCALENDAR
VERSION:2.0
PRODID:-//Tomball Education Foundation - ECPv6.15.20//NONSGML v1.0//EN
CALSCALE:GREGORIAN
METHOD:PUBLISH
X-WR-CALNAME:Tomball Education Foundation
X-ORIGINAL-URL:https://tomballedfoundation.com
X-WR-CALDESC:Events for Tomball Education Foundation
REFRESH-INTERVAL;VALUE=DURATION:PT1H
X-Robots-Tag:noindex
X-PUBLISHED-TTL:PT1H
BEGIN:VTIMEZONE
TZID:America/Chicago
BEGIN:DAYLIGHT
TZOFFSETFROM:-0600
TZOFFSETTO:-0500
TZNAME:CDT
DTSTART:20220313T080000
END:DAYLIGHT
BEGIN:STANDARD
TZOFFSETFROM:-0500
TZOFFSETTO:-0600
TZNAME:CST
DTSTART:20221106T070000
END:STANDARD
BEGIN:DAYLIGHT
TZOFFSETFROM:-0600
TZOFFSETTO:-0500
TZNAME:CDT
DTSTART:20230312T080000
END:DAYLIGHT
BEGIN:STANDARD
TZOFFSETFROM:-0500
TZOFFSETTO:-0600
TZNAME:CST
DTSTART:20231105T070000
END:STANDARD
BEGIN:DAYLIGHT
TZOFFSETFROM:-0600
TZOFFSETTO:-0500
TZNAME:CDT
DTSTART:20240310T080000
END:DAYLIGHT
BEGIN:STANDARD
TZOFFSETFROM:-0500
TZOFFSETTO:-0600
TZNAME:CST
DTSTART:20241103T070000
END:STANDARD
BEGIN:DAYLIGHT
TZOFFSETFROM:-0600
TZOFFSETTO:-0500
TZNAME:CDT
DTSTART:20250309T080000
END:DAYLIGHT
BEGIN:STANDARD
TZOFFSETFROM:-0500
TZOFFSETTO:-0600
TZNAME:CST
DTSTART:20251102T070000
END:STANDARD
END:VTIMEZONE
BEGIN:VEVENT
DTSTART;TZID=America/Chicago:20241121T183000
DTEND;TZID=America/Chicago:20241121T210000
DTSTAMP:20260419T092342
CREATED:20241025T142216Z
LAST-MODIFIED:20241115T003123Z
UID:10000067-1732213800-1732222800@tomballedfoundation.com
SUMMARY:Boots & Bling 2024 - Tomball Education Foundation
DESCRIPTION:Thank you everyone\, we are officially SOLD OUT! \nIt’s time to dust off your boots because Boots & Bling is almost here! This event serves as a significant fundraising opportunity for our foundation. \nNovember 21\, 2024 | 6:30pmMajestic Oaks – Barn20125 Cedar Ln\, Tomball\, TX 77377 \nPurchase Tickets and Sponsorships\n\n  \n   \n\n\n\n        \n        Event Options\n      \n\n\n\n        \n            Individual Ticket $75.00 USD\n          \n            Photo Booth Sponsor $1\,000.00 USD\n          \n            Amethyst Sponsor $1\,500.00 USD\n          \n            Gold Sponsor $2\,500.00 USD\n          \n            Dinner Sponsor $2\,500.00 USD\n          \n            Emerald Sponsor $5\,000.00 USD\n          \n            Diamond Sponsor $10\,000.00 USD\n          \n      \n\n\n  \n  \n\nSponsorship Opportunities\n$10\,000 Diamond Sponsor\n\nTwo premier tables of 10\nPrint recognition at the table\, in the event program\, and on the Tomball ISD Education Foundation webpage\nRecognition by the Master of Ceremonies\nTwo bottles of selected wine for each table\n\n$5\,000 Emerald Sponsor\n\nPremier table of 10\nPrint recognition at the table\, in the event program\, and on the Tomball ISD Education Foundation webpage\nRecognition by the Master of Ceremonies\nTwo bottles of selected wine for the table\n\n$2\,500 Gold Sponsor\n\nReserved table of 10\nPrint recognition at the table\, in the event program\, and on the Tomball ISD Education Foundation webpage\nRecognition by the Master of Ceremonies\n\n$1\,500 Amethyst Sponsor\n\nSix tickets with reserved seating\nPrint recognition in the event program and on the Tomball ISD Education Foundation webpage\nRecognition by the Master of Ceremonies\n\n$2\,500 Dinner Sponsor\n\nFour tickets with reserved seating\nPrint recognition at the buffet tables\, in the event program\, and on the Tomball ISD Education Foundation webpage\nRecognition by the Master of Ceremonies\n\n$1\,000 Photo Booth Sponsor\n\nFour tickets with reserved seating\nPrint recognition on all photobooth photos\, in the event program\, and on the Tomball ISD Education Foundation webpage\nRecognition by the Master of Ceremonies
URL:https://tomballedfoundation.com/calendar/boots-bling-2024-tomball-education-foundation/
LOCATION:Majestic Oaks\, 20125 Cedar Ln.\, Tomball\, TX\, 77377\, United States
ATTACH;FMTTYPE=image/png:https://tomballedfoundation.com/wp-content/uploads/2024/10/STD_BB.png
ORGANIZER;CN="Tomball Education Foundation":MAILTO:TEFEvents@tomballisd.net
END:VEVENT
BEGIN:VEVENT
DTSTART;TZID=America/Chicago:20241106T160000
DTEND;TZID=America/Chicago:20241106T170000
DTSTAMP:20260419T092342
CREATED:20230721T161542Z
LAST-MODIFIED:20250307T231745Z
UID:10000007-1730908800-1730912400@tomballedfoundation.com
SUMMARY:Board Meeting - Tomball Education Foundation
DESCRIPTION:Monthly Tomball Education Foundation Board Meeting
URL:https://tomballedfoundation.com/calendar/board-meeting-tomball-education-foundation/2024-11-06/
LOCATION:TISD District Office\, 310 S CHERRY ST\, Tomball\, TX\, 77375\, United States
ATTACH;FMTTYPE=image/webp:https://tomballedfoundation.com/wp-content/uploads/2023/07/MONTHLY-BOARD-MEETING-copy.webp
ORGANIZER;CN="Tomball Education Foundation":MAILTO:TEFEvents@tomballisd.net
END:VEVENT
BEGIN:VEVENT
DTSTART;TZID=America/Chicago:20241002T160000
DTEND;TZID=America/Chicago:20241002T170000
DTSTAMP:20260419T092342
CREATED:20230721T161542Z
LAST-MODIFIED:20250307T231745Z
UID:10000006-1727884800-1727888400@tomballedfoundation.com
SUMMARY:Board Meeting - Tomball Education Foundation
DESCRIPTION:Monthly Tomball Education Foundation Board Meeting
URL:https://tomballedfoundation.com/calendar/board-meeting-tomball-education-foundation/2024-10-02/
LOCATION:TISD District Office\, 310 S CHERRY ST\, Tomball\, TX\, 77375\, United States
ATTACH;FMTTYPE=image/webp:https://tomballedfoundation.com/wp-content/uploads/2023/07/MONTHLY-BOARD-MEETING-copy.webp
ORGANIZER;CN="Tomball Education Foundation":MAILTO:TEFEvents@tomballisd.net
END:VEVENT
BEGIN:VEVENT
DTSTART;TZID=America/Chicago:20240904T160000
DTEND;TZID=America/Chicago:20240904T170000
DTSTAMP:20260419T092342
CREATED:20230721T161542Z
LAST-MODIFIED:20250307T231745Z
UID:10000005-1725465600-1725469200@tomballedfoundation.com
SUMMARY:Board Meeting - Tomball Education Foundation
DESCRIPTION:Monthly Tomball Education Foundation Board Meeting
URL:https://tomballedfoundation.com/calendar/board-meeting-tomball-education-foundation/2024-09-04/
LOCATION:TISD District Office\, 310 S CHERRY ST\, Tomball\, TX\, 77375\, United States
ATTACH;FMTTYPE=image/webp:https://tomballedfoundation.com/wp-content/uploads/2023/07/MONTHLY-BOARD-MEETING-copy.webp
ORGANIZER;CN="Tomball Education Foundation":MAILTO:TEFEvents@tomballisd.net
END:VEVENT
BEGIN:VEVENT
DTSTART;TZID=America/Chicago:20240807T160000
DTEND;TZID=America/Chicago:20240807T170000
DTSTAMP:20260419T092342
CREATED:20230721T161542Z
LAST-MODIFIED:20250307T231745Z
UID:10000065-1723046400-1723050000@tomballedfoundation.com
SUMMARY:Board Meeting - Tomball Education Foundation
DESCRIPTION:Monthly Tomball Education Foundation Board Meeting
URL:https://tomballedfoundation.com/calendar/board-meeting-tomball-education-foundation/2024-08-07/
LOCATION:TISD District Office\, 310 S CHERRY ST\, Tomball\, TX\, 77375\, United States
ATTACH;FMTTYPE=image/webp:https://tomballedfoundation.com/wp-content/uploads/2023/07/MONTHLY-BOARD-MEETING-copy.webp
ORGANIZER;CN="Tomball Education Foundation":MAILTO:TEFEvents@tomballisd.net
END:VEVENT
BEGIN:VEVENT
DTSTART;VALUE=DATE:20240724
DTEND;VALUE=DATE:20240808
DTSTAMP:20260419T092342
CREATED:20240718T211034Z
LAST-MODIFIED:20240723T195144Z
UID:10000066-1721779200-1723075199@tomballedfoundation.com
SUMMARY:Stuff The Bus
DESCRIPTION:
URL:https://tomballedfoundation.com/calendar/stuff-the-bus/
ATTACH;FMTTYPE=image/png:https://tomballedfoundation.com/wp-content/uploads/2024/07/Website-Blog-Images-30.png
ORGANIZER;CN="Tomball Education Foundation":MAILTO:TEFEvents@tomballisd.net
END:VEVENT
BEGIN:VEVENT
DTSTART;TZID=America/Chicago:20240703T160000
DTEND;TZID=America/Chicago:20240703T170000
DTSTAMP:20260419T092342
CREATED:20230721T161542Z
LAST-MODIFIED:20250307T231745Z
UID:10000089-1720022400-1720026000@tomballedfoundation.com
SUMMARY:Board Meeting - Tomball Education Foundation
DESCRIPTION:Monthly Tomball Education Foundation Board Meeting
URL:https://tomballedfoundation.com/calendar/board-meeting-tomball-education-foundation/2024-07-03/
LOCATION:TISD District Office\, 310 S CHERRY ST\, Tomball\, TX\, 77375\, United States
ATTACH;FMTTYPE=image/webp:https://tomballedfoundation.com/wp-content/uploads/2023/07/MONTHLY-BOARD-MEETING-copy.webp
ORGANIZER;CN="Tomball Education Foundation":MAILTO:TEFEvents@tomballisd.net
END:VEVENT
BEGIN:VEVENT
DTSTART;TZID=America/Chicago:20240605T160000
DTEND;TZID=America/Chicago:20240605T170000
DTSTAMP:20260419T092342
CREATED:20230721T161542Z
LAST-MODIFIED:20250307T231745Z
UID:10000063-1717603200-1717606800@tomballedfoundation.com
SUMMARY:Board Meeting - Tomball Education Foundation
DESCRIPTION:Monthly Tomball Education Foundation Board Meeting
URL:https://tomballedfoundation.com/calendar/board-meeting-tomball-education-foundation/2024-06-05/
LOCATION:TISD District Office\, 310 S CHERRY ST\, Tomball\, TX\, 77375\, United States
ATTACH;FMTTYPE=image/webp:https://tomballedfoundation.com/wp-content/uploads/2023/07/MONTHLY-BOARD-MEETING-copy.webp
ORGANIZER;CN="Tomball Education Foundation":MAILTO:TEFEvents@tomballisd.net
END:VEVENT
BEGIN:VEVENT
DTSTART;TZID=America/Chicago:20240501T160000
DTEND;TZID=America/Chicago:20240501T170000
DTSTAMP:20260419T092342
CREATED:20230721T161542Z
LAST-MODIFIED:20250307T231745Z
UID:10000062-1714579200-1714582800@tomballedfoundation.com
SUMMARY:Board Meeting - Tomball Education Foundation
DESCRIPTION:Monthly Tomball Education Foundation Board Meeting
URL:https://tomballedfoundation.com/calendar/board-meeting-tomball-education-foundation/2024-05-01/
LOCATION:TISD District Office\, 310 S CHERRY ST\, Tomball\, TX\, 77375\, United States
ATTACH;FMTTYPE=image/webp:https://tomballedfoundation.com/wp-content/uploads/2023/07/MONTHLY-BOARD-MEETING-copy.webp
ORGANIZER;CN="Tomball Education Foundation":MAILTO:TEFEvents@tomballisd.net
END:VEVENT
BEGIN:VEVENT
DTSTART;TZID=America/Chicago:20240403T160000
DTEND;TZID=America/Chicago:20240403T170000
DTSTAMP:20260419T092342
CREATED:20230721T161542Z
LAST-MODIFIED:20250307T231745Z
UID:10000061-1712160000-1712163600@tomballedfoundation.com
SUMMARY:Board Meeting - Tomball Education Foundation
DESCRIPTION:Monthly Tomball Education Foundation Board Meeting
URL:https://tomballedfoundation.com/calendar/board-meeting-tomball-education-foundation/2024-04-03/
LOCATION:TISD District Office\, 310 S CHERRY ST\, Tomball\, TX\, 77375\, United States
ATTACH;FMTTYPE=image/webp:https://tomballedfoundation.com/wp-content/uploads/2023/07/MONTHLY-BOARD-MEETING-copy.webp
ORGANIZER;CN="Tomball Education Foundation":MAILTO:TEFEvents@tomballisd.net
END:VEVENT
BEGIN:VEVENT
DTSTART;TZID=America/Chicago:20240306T160000
DTEND;TZID=America/Chicago:20240306T170000
DTSTAMP:20260419T092342
CREATED:20230721T161542Z
LAST-MODIFIED:20250307T231745Z
UID:10000060-1709740800-1709744400@tomballedfoundation.com
SUMMARY:Board Meeting - Tomball Education Foundation
DESCRIPTION:Monthly Tomball Education Foundation Board Meeting
URL:https://tomballedfoundation.com/calendar/board-meeting-tomball-education-foundation/2024-03-06/
LOCATION:TISD District Office\, 310 S CHERRY ST\, Tomball\, TX\, 77375\, United States
ATTACH;FMTTYPE=image/webp:https://tomballedfoundation.com/wp-content/uploads/2023/07/MONTHLY-BOARD-MEETING-copy.webp
ORGANIZER;CN="Tomball Education Foundation":MAILTO:TEFEvents@tomballisd.net
END:VEVENT
BEGIN:VEVENT
DTSTART;TZID=America/Chicago:20240207T160000
DTEND;TZID=America/Chicago:20240207T170000
DTSTAMP:20260419T092342
CREATED:20230721T161542Z
LAST-MODIFIED:20250307T231745Z
UID:10000059-1707321600-1707325200@tomballedfoundation.com
SUMMARY:Board Meeting - Tomball Education Foundation
DESCRIPTION:Monthly Tomball Education Foundation Board Meeting
URL:https://tomballedfoundation.com/calendar/board-meeting-tomball-education-foundation/2024-02-07/
LOCATION:TISD District Office\, 310 S CHERRY ST\, Tomball\, TX\, 77375\, United States
ATTACH;FMTTYPE=image/webp:https://tomballedfoundation.com/wp-content/uploads/2023/07/MONTHLY-BOARD-MEETING-copy.webp
ORGANIZER;CN="Tomball Education Foundation":MAILTO:TEFEvents@tomballisd.net
END:VEVENT
BEGIN:VEVENT
DTSTART;TZID=America/Chicago:20240103T160000
DTEND;TZID=America/Chicago:20240103T170000
DTSTAMP:20260419T092342
CREATED:20230721T161542Z
LAST-MODIFIED:20250307T231745Z
UID:10000058-1704297600-1704301200@tomballedfoundation.com
SUMMARY:Board Meeting - Tomball Education Foundation
DESCRIPTION:Monthly Tomball Education Foundation Board Meeting
URL:https://tomballedfoundation.com/calendar/board-meeting-tomball-education-foundation/2024-01-03/
LOCATION:TISD District Office\, 310 S CHERRY ST\, Tomball\, TX\, 77375\, United States
ATTACH;FMTTYPE=image/webp:https://tomballedfoundation.com/wp-content/uploads/2023/07/MONTHLY-BOARD-MEETING-copy.webp
ORGANIZER;CN="Tomball Education Foundation":MAILTO:TEFEvents@tomballisd.net
END:VEVENT
BEGIN:VEVENT
DTSTART;TZID=America/Chicago:20231206T160000
DTEND;TZID=America/Chicago:20231206T170000
DTSTAMP:20260419T092342
CREATED:20230721T161542Z
LAST-MODIFIED:20250307T231745Z
UID:10000057-1701878400-1701882000@tomballedfoundation.com
SUMMARY:Board Meeting - Tomball Education Foundation
DESCRIPTION:Monthly Tomball Education Foundation Board Meeting
URL:https://tomballedfoundation.com/calendar/board-meeting-tomball-education-foundation/2023-12-06/
LOCATION:TISD District Office\, 310 S CHERRY ST\, Tomball\, TX\, 77375\, United States
ATTACH;FMTTYPE=image/webp:https://tomballedfoundation.com/wp-content/uploads/2023/07/MONTHLY-BOARD-MEETING-copy.webp
ORGANIZER;CN="Tomball Education Foundation":MAILTO:TEFEvents@tomballisd.net
END:VEVENT
BEGIN:VEVENT
DTSTART;TZID=America/Chicago:20231102T183000
DTEND;TZID=America/Chicago:20231102T210000
DTSTAMP:20260419T092342
CREATED:20230721T035359Z
LAST-MODIFIED:20231101T151737Z
UID:10000001-1698949800-1698958800@tomballedfoundation.com
SUMMARY:Boots & Bling - Tomball Education Foundation
DESCRIPTION:It’s time to dust off your boots because Boots & Bling is almost here! This event serves as a significant fundraising opportunity for our foundation.  \nNovember 2\, 2023 | 6:30pmMajestic Oaks20125 Cedar Ln\, Tomball\, TX 77377 \nSponsorship Opportunities: Please See Below 
URL:https://tomballedfoundation.com/calendar/fundraising-gala/
LOCATION:Majestic Oaks\, 20125 Cedar Ln.\, Tomball\, TX\, 77377\, United States
ATTACH;FMTTYPE=image/jpeg:https://tomballedfoundation.com/wp-content/uploads/2023/07/image0-1.jpeg
ORGANIZER;CN="Tomball Education Foundation":MAILTO:TEFEvents@tomballisd.net
END:VEVENT
BEGIN:VEVENT
DTSTART;TZID=America/Chicago:20231101T160000
DTEND;TZID=America/Chicago:20231101T170000
DTSTAMP:20260419T092342
CREATED:20230721T161542Z
LAST-MODIFIED:20250307T231745Z
UID:10000056-1698854400-1698858000@tomballedfoundation.com
SUMMARY:Board Meeting - Tomball Education Foundation
DESCRIPTION:Monthly Tomball Education Foundation Board Meeting
URL:https://tomballedfoundation.com/calendar/board-meeting-tomball-education-foundation/2023-11-01/
LOCATION:TISD District Office\, 310 S CHERRY ST\, Tomball\, TX\, 77375\, United States
ATTACH;FMTTYPE=image/webp:https://tomballedfoundation.com/wp-content/uploads/2023/07/MONTHLY-BOARD-MEETING-copy.webp
ORGANIZER;CN="Tomball Education Foundation":MAILTO:TEFEvents@tomballisd.net
END:VEVENT
BEGIN:VEVENT
DTSTART;TZID=America/Chicago:20231004T160000
DTEND;TZID=America/Chicago:20231004T170000
DTSTAMP:20260419T092342
CREATED:20230721T161542Z
LAST-MODIFIED:20250307T231745Z
UID:10000055-1696435200-1696438800@tomballedfoundation.com
SUMMARY:Board Meeting - Tomball Education Foundation
DESCRIPTION:Monthly Tomball Education Foundation Board Meeting
URL:https://tomballedfoundation.com/calendar/board-meeting-tomball-education-foundation/2023-10-04/
LOCATION:TISD District Office\, 310 S CHERRY ST\, Tomball\, TX\, 77375\, United States
ATTACH;FMTTYPE=image/webp:https://tomballedfoundation.com/wp-content/uploads/2023/07/MONTHLY-BOARD-MEETING-copy.webp
ORGANIZER;CN="Tomball Education Foundation":MAILTO:TEFEvents@tomballisd.net
END:VEVENT
BEGIN:VEVENT
DTSTART;TZID=America/Chicago:20230906T160000
DTEND;TZID=America/Chicago:20230906T170000
DTSTAMP:20260419T092342
CREATED:20230721T161542Z
LAST-MODIFIED:20250307T231745Z
UID:10000069-1694016000-1694019600@tomballedfoundation.com
SUMMARY:Board Meeting - Tomball Education Foundation
DESCRIPTION:Monthly Tomball Education Foundation Board Meeting
URL:https://tomballedfoundation.com/calendar/board-meeting-tomball-education-foundation/2023-09-06/
LOCATION:TISD District Office\, 310 S CHERRY ST\, Tomball\, TX\, 77375\, United States
ATTACH;FMTTYPE=image/webp:https://tomballedfoundation.com/wp-content/uploads/2023/07/MONTHLY-BOARD-MEETING-copy.webp
ORGANIZER;CN="Tomball Education Foundation":MAILTO:TEFEvents@tomballisd.net
END:VEVENT
BEGIN:VEVENT
DTSTART;TZID=America/Chicago:20230906T110000
DTEND;TZID=America/Chicago:20230906T120000
DTSTAMP:20260419T092342
CREATED:20230807T205203Z
LAST-MODIFIED:20230807T205225Z
UID:10000053-1693998000-1694001600@tomballedfoundation.com
SUMMARY:Board Meeting - Tomball Education Foundation
DESCRIPTION:Monthly Tomball Education Foundation Board Meeting
URL:https://tomballedfoundation.com/calendar/board-meeting-tomball-education-foundation-copy/
LOCATION:TISD District Office\, 310 S CHERRY ST\, Tomball\, TX\, 77375\, United States
ATTACH;FMTTYPE=image/webp:https://tomballedfoundation.com/wp-content/uploads/2023/07/MONTHLY-BOARD-MEETING-copy.webp
ORGANIZER;CN="Tomball Education Foundation":MAILTO:TEFEvents@tomballisd.net
END:VEVENT
BEGIN:VEVENT
DTSTART;TZID=America/Chicago:20230802T160000
DTEND;TZID=America/Chicago:20230802T170000
DTSTAMP:20260419T092342
CREATED:20230721T161542Z
LAST-MODIFIED:20250307T231745Z
UID:10000003-1690992000-1690995600@tomballedfoundation.com
SUMMARY:Board Meeting - Tomball Education Foundation
DESCRIPTION:Monthly Tomball Education Foundation Board Meeting
URL:https://tomballedfoundation.com/calendar/board-meeting-tomball-education-foundation/2023-08-02/
LOCATION:TISD District Office\, 310 S CHERRY ST\, Tomball\, TX\, 77375\, United States
ATTACH;FMTTYPE=image/webp:https://tomballedfoundation.com/wp-content/uploads/2023/07/MONTHLY-BOARD-MEETING-copy.webp
ORGANIZER;CN="Tomball Education Foundation":MAILTO:TEFEvents@tomballisd.net
END:VEVENT
END:VCALENDAR