BEGIN:VCALENDAR
VERSION:2.0
PRODID:-//Tomball Education Foundation - ECPv6.15.20//NONSGML v1.0//EN
CALSCALE:GREGORIAN
METHOD:PUBLISH
X-WR-CALNAME:Tomball Education Foundation
X-ORIGINAL-URL:https://tomballedfoundation.com
X-WR-CALDESC:Events for Tomball Education Foundation
REFRESH-INTERVAL;VALUE=DURATION:PT1H
X-Robots-Tag:noindex
X-PUBLISHED-TTL:PT1H
BEGIN:VTIMEZONE
TZID:America/Chicago
BEGIN:DAYLIGHT
TZOFFSETFROM:-0600
TZOFFSETTO:-0500
TZNAME:CDT
DTSTART:20250309T080000
END:DAYLIGHT
BEGIN:STANDARD
TZOFFSETFROM:-0500
TZOFFSETTO:-0600
TZNAME:CST
DTSTART:20251102T070000
END:STANDARD
BEGIN:DAYLIGHT
TZOFFSETFROM:-0600
TZOFFSETTO:-0500
TZNAME:CDT
DTSTART:20260308T080000
END:DAYLIGHT
BEGIN:STANDARD
TZOFFSETFROM:-0500
TZOFFSETTO:-0600
TZNAME:CST
DTSTART:20261101T070000
END:STANDARD
BEGIN:DAYLIGHT
TZOFFSETFROM:-0600
TZOFFSETTO:-0500
TZNAME:CDT
DTSTART:20270314T080000
END:DAYLIGHT
BEGIN:STANDARD
TZOFFSETFROM:-0500
TZOFFSETTO:-0600
TZNAME:CST
DTSTART:20271107T070000
END:STANDARD
END:VTIMEZONE
BEGIN:VEVENT
DTSTART;TZID=America/Chicago:20260506T160000
DTEND;TZID=America/Chicago:20260506T170000
DTSTAMP:20260419T081926
CREATED:20260303T200454Z
LAST-MODIFIED:20260303T200454Z
UID:10000103-1778083200-1778086800@tomballedfoundation.com
SUMMARY:Board Meeting – Tomball Education Foundation
DESCRIPTION:Monthly Tomball Education Foundation Board Meeting\nTEFEvents@tomballisd.net
URL:https://tomballedfoundation.com/calendar/board-meeting-tomball-education-foundation-2/
LOCATION:TISD District Office\, 310 S CHERRY ST\, Tomball\, TX\, 77375\, United States
ATTACH;FMTTYPE=image/webp:https://tomballedfoundation.com/wp-content/uploads/2023/07/MONTHLY-BOARD-MEETING-copy.webp
ORGANIZER;CN="Tomball Education Foundation":MAILTO:TEFEvents@tomballisd.net
END:VEVENT
BEGIN:VEVENT
DTSTART;TZID=America/Chicago:20260603T160000
DTEND;TZID=America/Chicago:20260603T170000
DTSTAMP:20260419T081926
CREATED:20260303T200526Z
LAST-MODIFIED:20260303T200526Z
UID:10000104-1780502400-1780506000@tomballedfoundation.com
SUMMARY:Board Meeting – Tomball Education Foundation
DESCRIPTION:Monthly Tomball Education Foundation Board Meeting\nTEFEvents@tomballisd.net
URL:https://tomballedfoundation.com/calendar/board-meeting-tomball-education-foundation-3/
LOCATION:TISD District Office\, 310 S CHERRY ST\, Tomball\, TX\, 77375\, United States
ATTACH;FMTTYPE=image/webp:https://tomballedfoundation.com/wp-content/uploads/2023/07/MONTHLY-BOARD-MEETING-copy.webp
ORGANIZER;CN="Tomball Education Foundation":MAILTO:TEFEvents@tomballisd.net
END:VEVENT
BEGIN:VEVENT
DTSTART;TZID=America/Chicago:20260805T160000
DTEND;TZID=America/Chicago:20260805T170000
DTSTAMP:20260419T081926
CREATED:20260303T200547Z
LAST-MODIFIED:20260303T200547Z
UID:10000105-1785945600-1785949200@tomballedfoundation.com
SUMMARY:Board Meeting – Tomball Education Foundation
DESCRIPTION:Monthly Tomball Education Foundation Board Meeting\nTEFEvents@tomballisd.net
URL:https://tomballedfoundation.com/calendar/board-meeting-tomball-education-foundation-4/
LOCATION:TISD District Office\, 310 S CHERRY ST\, Tomball\, TX\, 77375\, United States
ATTACH;FMTTYPE=image/webp:https://tomballedfoundation.com/wp-content/uploads/2023/07/MONTHLY-BOARD-MEETING-copy.webp
ORGANIZER;CN="Tomball Education Foundation":MAILTO:TEFEvents@tomballisd.net
END:VEVENT
BEGIN:VEVENT
DTSTART;TZID=America/Chicago:20260902T160000
DTEND;TZID=America/Chicago:20260902T170000
DTSTAMP:20260419T081926
CREATED:20260303T200606Z
LAST-MODIFIED:20260303T200606Z
UID:10000106-1788364800-1788368400@tomballedfoundation.com
SUMMARY:Board Meeting – Tomball Education Foundation
DESCRIPTION:Monthly Tomball Education Foundation Board Meeting\nTEFEvents@tomballisd.net
URL:https://tomballedfoundation.com/calendar/board-meeting-tomball-education-foundation-5/
LOCATION:TISD District Office\, 310 S CHERRY ST\, Tomball\, TX\, 77375\, United States
ATTACH;FMTTYPE=image/webp:https://tomballedfoundation.com/wp-content/uploads/2023/07/MONTHLY-BOARD-MEETING-copy.webp
ORGANIZER;CN="Tomball Education Foundation":MAILTO:TEFEvents@tomballisd.net
END:VEVENT
BEGIN:VEVENT
DTSTART;TZID=America/Chicago:20261007T160000
DTEND;TZID=America/Chicago:20261007T170000
DTSTAMP:20260419T081926
CREATED:20260303T200625Z
LAST-MODIFIED:20260303T200625Z
UID:10000107-1791388800-1791392400@tomballedfoundation.com
SUMMARY:Board Meeting – Tomball Education Foundation
DESCRIPTION:Monthly Tomball Education Foundation Board Meeting\nTEFEvents@tomballisd.net
URL:https://tomballedfoundation.com/calendar/board-meeting-tomball-education-foundation-6/
LOCATION:TISD District Office\, 310 S CHERRY ST\, Tomball\, TX\, 77375\, United States
ATTACH;FMTTYPE=image/webp:https://tomballedfoundation.com/wp-content/uploads/2023/07/MONTHLY-BOARD-MEETING-copy.webp
ORGANIZER;CN="Tomball Education Foundation":MAILTO:TEFEvents@tomballisd.net
END:VEVENT
BEGIN:VEVENT
DTSTART;TZID=America/Chicago:20261104T160000
DTEND;TZID=America/Chicago:20261104T170000
DTSTAMP:20260419T081926
CREATED:20260303T200640Z
LAST-MODIFIED:20260303T200709Z
UID:10000108-1793808000-1793811600@tomballedfoundation.com
SUMMARY:Board Meeting – Tomball Education Foundation
DESCRIPTION:Monthly Tomball Education Foundation Board Meeting\nTEFEvents@tomballisd.net
URL:https://tomballedfoundation.com/calendar/board-meeting-tomball-education-foundation-7/
LOCATION:TISD District Office\, 310 S CHERRY ST\, Tomball\, TX\, 77375\, United States
ATTACH;FMTTYPE=image/webp:https://tomballedfoundation.com/wp-content/uploads/2023/07/MONTHLY-BOARD-MEETING-copy.webp
ORGANIZER;CN="Tomball Education Foundation":MAILTO:TEFEvents@tomballisd.net
END:VEVENT
END:VCALENDAR